Workbook

Sheet Übersicht
B2: Hochzeitsbudget
B3: Kostenlose Vorlage von hochzeitskostenrechner.com · Gelbe Felder ausfüllen
B4: Unser Gesamtbudget | C4: 22000
B5: Anzahl Gäste | C5: 80
B6: Geplante Kosten | C6: =Kosten!E61 -> 20968
B7: Budget minus Geplant | C7: =C4-C6 -> 1032
B8: Kosten pro Gast (geplant) | C8: =IF(C5>0,C6/C5,0) -> 262.1
B9: Summe Angebote | C9: =Kosten!F61 -> 0
B10: Bereits bezahlt | C10: =Kosten!H61 -> 0
B11: Noch zu bezahlen | C11: =Kosten!I61 -> 20968
B12: Empfohlener Puffer (10 %) | C12: =C4*0.1 -> 2200
B14: Nach Bereichen
B15: Bereich | C15: Geplant | D15: Bezahlt | E15: Noch offen | F15: Anteil am Budget
B16: Location & Catering | C16: =SUMIF(Kosten!$A$2:$A$60,B16,Kosten!$E$2:$E$60) -> 10460 | D16: =SUMIF(Kosten!$A$2:$A$60,B16,Kosten!$H$2:$H$60) -> 0 | E16: =SUMIF(Kosten!$A$2:$A$60,B16,Kosten!$I$2:$I$60) -> 10460 | F16: =IF($C$4>0,C16/$C$4,0) -> 0.47545455
B17: Trauung | C17: =SUMIF(Kosten!$A$2:$A$60,B17,Kosten!$E$2:$E$60) -> 450 | D17: =SUMIF(Kosten!$A$2:$A$60,B17,Kosten!$H$2:$H$60) -> 0 | E17: =SUMIF(Kosten!$A$2:$A$60,B17,Kosten!$I$2:$I$60) -> 450 | F17: =IF($C$4>0,C17/$C$4,0) -> 0.020454545
B18: Outfit & Styling | C18: =SUMIF(Kosten!$A$2:$A$60,B18,Kosten!$E$2:$E$60) -> 3880 | D18: =SUMIF(Kosten!$A$2:$A$60,B18,Kosten!$H$2:$H$60) -> 0 | E18: =SUMIF(Kosten!$A$2:$A$60,B18,Kosten!$I$2:$I$60) -> 3880 | F18: =IF($C$4>0,C18/$C$4,0) -> 0.17636364
B19: Fotos & Video | C19: =SUMIF(Kosten!$A$2:$A$60,B19,Kosten!$E$2:$E$60) -> 1700 | D19: =SUMIF(Kosten!$A$2:$A$60,B19,Kosten!$H$2:$H$60) -> 0 | E19: =SUMIF(Kosten!$A$2:$A$60,B19,Kosten!$I$2:$I$60) -> 1700 | F19: =IF($C$4>0,C19/$C$4,0) -> 0.077272727
B20: Musik | C20: =SUMIF(Kosten!$A$2:$A$60,B20,Kosten!$E$2:$E$60) -> 1200 | D20: =SUMIF(Kosten!$A$2:$A$60,B20,Kosten!$H$2:$H$60) -> 0 | E20: =SUMIF(Kosten!$A$2:$A$60,B20,Kosten!$I$2:$I$60) -> 1200 | F20: =IF($C$4>0,C20/$C$4,0) -> 0.054545455
B21: Ringe | C21: =SUMIF(Kosten!$A$2:$A$60,B21,Kosten!$E$2:$E$60) -> 900 | D21: =SUMIF(Kosten!$A$2:$A$60,B21,Kosten!$H$2:$H$60) -> 0 | E21: =SUMIF(Kosten!$A$2:$A$60,B21,Kosten!$I$2:$I$60) -> 900 | F21: =IF($C$4>0,C21/$C$4,0) -> 0.040909091
B22: Blumen & Deko | C22: =SUMIF(Kosten!$A$2:$A$60,B22,Kosten!$E$2:$E$60) -> 1300 | D22: =SUMIF(Kosten!$A$2:$A$60,B22,Kosten!$H$2:$H$60) -> 0 | E22: =SUMIF(Kosten!$A$2:$A$60,B22,Kosten!$I$2:$I$60) -> 1300 | F22: =IF($C$4>0,C22/$C$4,0) -> 0.059090909
B23: Papeterie | C23: =SUMIF(Kosten!$A$2:$A$60,B23,Kosten!$E$2:$E$60) -> 368 | D23: =SUMIF(Kosten!$A$2:$A$60,B23,Kosten!$H$2:$H$60) -> 0 | E23: =SUMIF(Kosten!$A$2:$A$60,B23,Kosten!$I$2:$I$60) -> 368 | F23: =IF($C$4>0,C23/$C$4,0) -> 0.016727273
B24: Torte & Süßes | C24: =SUMIF(Kosten!$A$2:$A$60,B24,Kosten!$E$2:$E$60) -> 360 | D24: =SUMIF(Kosten!$A$2:$A$60,B24,Kosten!$H$2:$H$60) -> 0 | E24: =SUMIF(Kosten!$A$2:$A$60,B24,Kosten!$I$2:$I$60) -> 360 | F24: =IF($C$4>0,C24/$C$4,0) -> 0.016363636
B25: Transport & Übernachtung | C25: =SUMIF(Kosten!$A$2:$A$60,B25,Kosten!$E$2:$E$60) -> 150 | D25: =SUMIF(Kosten!$A$2:$A$60,B25,Kosten!$H$2:$H$60) -> 0 | E25: =SUMIF(Kosten!$A$2:$A$60,B25,Kosten!$I$2:$I$60) -> 150 | F25: =IF($C$4>0,C25/$C$4,0) -> 0.0068181818
B26: Sonstiges | C26: =SUMIF(Kosten!$A$2:$A$60,B26,Kosten!$E$2:$E$60) -> 200 | D26: =SUMIF(Kosten!$A$2:$A$60,B26,Kosten!$H$2:$H$60) -> 0 | E26: =SUMIF(Kosten!$A$2:$A$60,B26,Kosten!$I$2:$I$60) -> 200 | F26: =IF($C$4>0,C26/$C$4,0) -> 0.0090909091
B27: Summe | C27: =SUM(C16:C26) -> 20968 | D27: =SUM(D16:D26) -> 0 | E27: =SUM(E16:E26) -> 20968 | F27: =SUM(F16:F26) -> 0.95309091
B29: Legende: Gelbe Felder mit blauer Schrift = hier eintragen. Alle anderen Zahlen rechnet die Datei selbst aus.
B30: Ø-Werte: Bridebook Hochzeitsreport 2026 (über 2.000 Paare, Ø 17.006 € bei 82 Gästen) und Sparkasse.de. Stand: September 2026.

Sheet Kosten
A1: Bereich | B1: Kostenpunkt | C1: € pro Gast | D1: € pauschal | E1: Geplant | F1: Angebot | G1: davon Anzahlung | H1: Bezahlt | I1: Noch offen | J1: Ø 2026 / Hinweis
A2: Location & Catering | B2: Location-Miete | D2: 2500 | E2: =N(C2)*Übersicht!$C$5+N(D2) -> 2500 | I2: =IF(N(F2)>0,F2,E2)-N(H2) -> 2500 | J2: Ø Location 8.568 € (oft inkl. Essen)
A3: Location & Catering | B3: Sektempfang & Fingerfood | C3: 8 | E3: =N(C3)*Übersicht!$C$5+N(D3) -> 640 | I3: =IF(N(F3)>0,F3,E3)-N(H3) -> 640
A4: Location & Catering | B4: Abendessen (Buffet/Menü) | C4: 60 | E4: =N(C4)*Übersicht!$C$5+N(D4) -> 4800 | I4: =IF(N(F4)>0,F4,E4)-N(H4) -> 4800 | J4: ab ca. 80 € p. P. inkl. Getränke
A5: Location & Catering | B5: Getränke / Pauschale | C5: 30 | E5: =N(C5)*Übersicht!$C$5+N(D5) -> 2400 | I5: =IF(N(F5)>0,F5,E5)-N(H5) -> 2400 | J5: ca. 25–45 € p. P.
A6: Location & Catering | B6: Mitternachtssnack | E6: =N(C6)*Übersicht!$C$5+N(D6) -> 0 | I6: =IF(N(F6)>0,F6,E6)-N(H6) -> 0 | J6: ca. 5–12 € p. P.
A7: Location & Catering | B7: Kaffee & Kuchen | E7: =N(C7)*Übersicht!$C$5+N(D7) -> 0 | I7: =IF(N(F7)>0,F7,E7)-N(H7) -> 0 | J7: ca. 3–6 € p. P.
A8: Location & Catering | B8: Servicepersonal | E8: =N(C8)*Übersicht!$C$5+N(D8) -> 0 | I8: =IF(N(F8)>0,F8,E8)-N(H8) -> 0 | J8: falls nicht inklusive
A9: Location & Catering | B9: Essen für Dienstleister | D9: 120 | E9: =N(C9)*Übersicht!$C$5+N(D9) -> 120 | I9: =IF(N(F9)>0,F9,E9)-N(H9) -> 120
A10: Location & Catering | B10: (eigener Punkt) | E10: =N(C10)*Übersicht!$C$5+N(D10) -> 0 | I10: =IF(N(F10)>0,F10,E10)-N(H10) -> 0
A11: Trauung | B11: Standesamt Anmeldung | D11: 60 | E11: =N(C11)*Übersicht!$C$5+N(D11) -> 60 | I11: =IF(N(F11)>0,F11,E11)-N(H11) -> 60 | J11: ca. 40–75 €
A12: Trauung | B12: Standesamt Trauung / Zuschläge | D12: 100 | E12: =N(C12)*Übersicht!$C$5+N(D12) -> 100 | I12: =IF(N(F12)>0,F12,E12)-N(H12) -> 100 | J12: Samstag/Trauort extra
A13: Trauung | B13: Urkunden | D13: 40 | E13: =N(C13)*Übersicht!$C$5+N(D13) -> 40 | I13: =IF(N(F13)>0,F13,E13)-N(H13) -> 40 | J13: 12–15 € pro Stück
A14: Trauung | B14: Kirche: Organist, Spende, Kirchenheft | D14: 250 | E14: =N(C14)*Übersicht!$C$5+N(D14) -> 250 | I14: =IF(N(F14)>0,F14,E14)-N(H14) -> 250 | J14: meist 200–500 €
A15: Trauung | B15: Freie Trauung: Redner:in | E15: =N(C15)*Übersicht!$C$5+N(D15) -> 0 | I15: =IF(N(F15)>0,F15,E15)-N(H15) -> 0 | J15: 800–2.500 €, Ø 1.150 €
A16: Trauung | B16: (eigener Punkt) | E16: =N(C16)*Übersicht!$C$5+N(D16) -> 0 | I16: =IF(N(F16)>0,F16,E16)-N(H16) -> 0
A17: Outfit & Styling | B17: Brautkleid | D17: 1800 | E17: =N(C17)*Übersicht!$C$5+N(D17) -> 1800 | I17: =IF(N(F17)>0,F17,E17)-N(H17) -> 1800 | J17: Ø 1.832 €
A18: Outfit & Styling | B18: Änderungen am Kleid | D18: 150 | E18: =N(C18)*Übersicht!$C$5+N(D18) -> 150 | I18: =IF(N(F18)>0,F18,E18)-N(H18) -> 150 | J18: 50–300 €
A19: Outfit & Styling | B19: Schleier, Schuhe, Schmuck | D19: 250 | E19: =N(C19)*Übersicht!$C$5+N(D19) -> 250 | I19: =IF(N(F19)>0,F19,E19)-N(H19) -> 250
A20: Outfit & Styling | B20: Anzug | D20: 1000 | E20: =N(C20)*Übersicht!$C$5+N(D20) -> 1000 | I20: =IF(N(F20)>0,F20,E20)-N(H20) -> 1000 | J20: Ø 1.070 €
A21: Outfit & Styling | B21: Hemd, Schuhe, Krawatte | D21: 200 | E21: =N(C21)*Übersicht!$C$5+N(D21) -> 200 | I21: =IF(N(F21)>0,F21,E21)-N(H21) -> 200
A22: Outfit & Styling | B22: Friseur | D22: 270 | E22: =N(C22)*Übersicht!$C$5+N(D22) -> 270 | I22: =IF(N(F22)>0,F22,E22)-N(H22) -> 270 | J22: Ø 266 €
A23: Outfit & Styling | B23: Make-up | D23: 210 | E23: =N(C23)*Übersicht!$C$5+N(D23) -> 210 | I23: =IF(N(F23)>0,F23,E23)-N(H23) -> 210 | J23: Ø 209 €
A24: Outfit & Styling | B24: (eigener Punkt) | E24: =N(C24)*Übersicht!$C$5+N(D24) -> 0 | I24: =IF(N(F24)>0,F24,E24)-N(H24) -> 0
A25: Fotos & Video | B25: Fotograf | D25: 1700 | E25: =N(C25)*Übersicht!$C$5+N(D25) -> 1700 | I25: =IF(N(F25)>0,F25,E25)-N(H25) -> 1700 | J25: Ø 1.656 €
A26: Fotos & Video | B26: Videograf | E26: =N(C26)*Übersicht!$C$5+N(D26) -> 0 | I26: =IF(N(F26)>0,F26,E26)-N(H26) -> 0 | J26: Ø 1.695 €
A27: Fotos & Video | B27: Fotobox | E27: =N(C27)*Übersicht!$C$5+N(D27) -> 0 | I27: =IF(N(F27)>0,F27,E27)-N(H27) -> 0
A28: Fotos & Video | B28: (eigener Punkt) | E28: =N(C28)*Übersicht!$C$5+N(D28) -> 0 | I28: =IF(N(F28)>0,F28,E28)-N(H28) -> 0
A29: Musik | B29: DJ | D29: 1200 | E29: =N(C29)*Übersicht!$C$5+N(D29) -> 1200 | I29: =IF(N(F29)>0,F29,E29)-N(H29) -> 1200 | J29: 500–2.500 €
A30: Musik | B30: Band | E30: =N(C30)*Übersicht!$C$5+N(D30) -> 0 | I30: =IF(N(F30)>0,F30,E30)-N(H30) -> 0 | J30: 2.000–6.000 €
A31: Musik | B31: Musik zur Trauung | E31: =N(C31)*Übersicht!$C$5+N(D31) -> 0 | I31: =IF(N(F31)>0,F31,E31)-N(H31) -> 0 | J31: Ø 999 €
A32: Musik | B32: (eigener Punkt) | E32: =N(C32)*Übersicht!$C$5+N(D32) -> 0 | I32: =IF(N(F32)>0,F32,E32)-N(H32) -> 0
A33: Ringe | B33: Eheringe (Paar) | D33: 900 | E33: =N(C33)*Übersicht!$C$5+N(D33) -> 900 | I33: =IF(N(F33)>0,F33,E33)-N(H33) -> 900 | J33: 500–3.000 €
A34: Ringe | B34: Gravur | E34: =N(C34)*Übersicht!$C$5+N(D34) -> 0 | I34: =IF(N(F34)>0,F34,E34)-N(H34) -> 0
A35: Ringe | B35: (eigener Punkt) | E35: =N(C35)*Übersicht!$C$5+N(D35) -> 0 | I35: =IF(N(F35)>0,F35,E35)-N(H35) -> 0
A36: Blumen & Deko | B36: Brautstrauß & Anstecker | D36: 150 | E36: =N(C36)*Übersicht!$C$5+N(D36) -> 150 | I36: =IF(N(F36)>0,F36,E36)-N(H36) -> 150
A37: Blumen & Deko | B37: Tischblumen | D37: 450 | E37: =N(C37)*Übersicht!$C$5+N(D37) -> 450 | I37: =IF(N(F37)>0,F37,E37)-N(H37) -> 450 | J37: Ø Blumen gesamt 809 €
A38: Blumen & Deko | B38: Blumenschmuck Trauort | E38: =N(C38)*Übersicht!$C$5+N(D38) -> 0 | I38: =IF(N(F38)>0,F38,E38)-N(H38) -> 0
A39: Blumen & Deko | B39: Dekoration | D39: 700 | E39: =N(C39)*Übersicht!$C$5+N(D39) -> 700 | I39: =IF(N(F39)>0,F39,E39)-N(H39) -> 700 | J39: Ø 1.113 €
A40: Blumen & Deko | B40: Verleih (Hussen, Geschirr …) | E40: =N(C40)*Übersicht!$C$5+N(D40) -> 0 | I40: =IF(N(F40)>0,F40,E40)-N(H40) -> 0
...

Sheet Anleitung
B2: So benutzt ihr die Vorlage
B3: 1. Blatt „Übersicht“: Tragt euer Gesamtbudget und die Anzahl der Gäste in die gelben Felder ein.
B4: 2. Blatt „Kosten“: Jeder Kostenpunkt hat zwei Eingabefelder:
B5: • „€ pro Gast“ für alles, was pro Person kostet (Essen, Getränke, Torte …). Die Datei rechnet mal Gästezahl.
B6: • „€ pauschal“ für alles mit festem Preis (Fotograf, Kleid, DJ …).
B7: 3. Die Beispielwerte sind Durchschnittspreise 2026. Überschreibt sie mit euren eigenen Zahlen. Nicht benötigt? Einfach löschen.
B8: 4. Sobald ein Angebot kommt: Betrag in „Angebot“ eintragen. Dann rechnet „Noch offen“ mit dem Angebot statt mit dem Plan.
B9: 5. Bei jeder Zahlung: Gesamtbetrag in „Bezahlt“ eintragen. „davon Anzahlung“ ist nur zur Info.
B10: 6. Eigene Punkte: Nutzt die Zeilen „(eigener Punkt)“ in jedem Bereich. Den Bereich in Spalte A nicht ändern, sonst fehlt die Summe in der Übersicht.
B11: 7. Wird „Budget minus Geplant“ rot, plant ihr mehr auszugeben, als ihr habt. Dann an anderer Stelle sparen.
B13: Funktioniert mit Microsoft Excel, Google Sheets, LibreOffice Calc und Apple Numbers.
B14: Mehr Rechner und Ratgeber: https://hochzeitskostenrechner.com
B15: Keine Finanzberatung. Alle Angaben sind Schätzwerte ohne Gewähr.
